BEGIN:VCALENDAR
VERSION:2.0
PRODID:-//United Midcoast Charities - ECPv6.15.12.2//NONSGML v1.0//EN
CALSCALE:GREGORIAN
METHOD:PUBLISH
X-ORIGINAL-URL:https://unitedmidcoastcharities.org
X-WR-CALDESC:Events for United Midcoast Charities
REFRESH-INTERVAL;VALUE=DURATION:PT1H
X-Robots-Tag:noindex
X-PUBLISHED-TTL:PT1H
BEGIN:VTIMEZONE
TZID:America/New_York
BEGIN:DAYLIGHT
TZOFFSETFROM:-0500
TZOFFSETTO:-0400
TZNAME:EDT
DTSTART:20240310T070000
END:DAYLIGHT
BEGIN:STANDARD
TZOFFSETFROM:-0400
TZOFFSETTO:-0500
TZNAME:EST
DTSTART:20241103T060000
END:STANDARD
BEGIN:DAYLIGHT
TZOFFSETFROM:-0500
TZOFFSETTO:-0400
TZNAME:EDT
DTSTART:20250309T070000
END:DAYLIGHT
BEGIN:STANDARD
TZOFFSETFROM:-0400
TZOFFSETTO:-0500
TZNAME:EST
DTSTART:20251102T060000
END:STANDARD
BEGIN:DAYLIGHT
TZOFFSETFROM:-0500
TZOFFSETTO:-0400
TZNAME:EDT
DTSTART:20260308T070000
END:DAYLIGHT
BEGIN:STANDARD
TZOFFSETFROM:-0400
TZOFFSETTO:-0500
TZNAME:EST
DTSTART:20261101T060000
END:STANDARD
END:VTIMEZONE
BEGIN:VEVENT
DTSTART;TZID=America/New_York:20250821T170000
DTEND;TZID=America/New_York:20250821T200000
DTSTAMP:20260419T170200
CREATED:20250501T163539Z
LAST-MODIFIED:20250808T132010Z
UID:10000044-1755795600-1755806400@unitedmidcoastcharities.org
SUMMARY:The 2025 Rising Tide Party
DESCRIPTION:Join us for a memorable evening celebrating the important work of United Midcoast Charities and our partner agencies. \n\n\n\nTHE 2025 RISING TIDE PARTY \n\n\n\nand Silent Auction \n\n\n\nBE THE TIDE THAT LIFTS ALL BOATS \n\n\n\nAugust 21\, 2025 | 5:00 – 8:00 PM \n\n\n\nSail\, Power & Steam Museum Boathouse \n\n\n\n75 Mechanic St.\, Rockland \n\n\n\nIndulge your senses in a journey of live-fire cooking with fresh local Maine ingredients that will surprise and delight even the most seasoned food explorer. Beer\, Wine and a signature cocktail and mocktail will be served. Enjoy the vibrant sound of the Right Track Jazz Combo\, and don’t miss the chance to bid and win some amazing prizes. \n\n\n\nTICKETS ON SALE NOW!
URL:https://unitedmidcoastcharities.org/event/the-2025-rising-tide-party/
LOCATION:Sail Power & Steam Museum Boathouse\, 75 Mechanic\, Rockland\, 04841\, United States
ATTACH;FMTTYPE=image/png:https://unitedmidcoastcharities.org/wp-content/uploads/2025/05/Screenshot-2025-05-01-at-12.35.03 PM.png
ORGANIZER;CN="United Midcoast Charities":MAILTO:admin@unitedmidcoastcharities.org
END:VEVENT
END:VCALENDAR