BEGIN:VCALENDAR
VERSION:2.0
PRODID:-//United Midcoast Charities - ECPv6.15.12.2//NONSGML v1.0//EN
CALSCALE:GREGORIAN
METHOD:PUBLISH
X-WR-CALNAME:United Midcoast Charities
X-ORIGINAL-URL:https://unitedmidcoastcharities.org
X-WR-CALDESC:Events for United Midcoast Charities
REFRESH-INTERVAL;VALUE=DURATION:PT1H
X-Robots-Tag:noindex
X-PUBLISHED-TTL:PT1H
BEGIN:VTIMEZONE
TZID:America/New_York
BEGIN:DAYLIGHT
TZOFFSETFROM:-0500
TZOFFSETTO:-0400
TZNAME:EDT
DTSTART:20240310T070000
END:DAYLIGHT
BEGIN:STANDARD
TZOFFSETFROM:-0400
TZOFFSETTO:-0500
TZNAME:EST
DTSTART:20241103T060000
END:STANDARD
BEGIN:DAYLIGHT
TZOFFSETFROM:-0500
TZOFFSETTO:-0400
TZNAME:EDT
DTSTART:20250309T070000
END:DAYLIGHT
BEGIN:STANDARD
TZOFFSETFROM:-0400
TZOFFSETTO:-0500
TZNAME:EST
DTSTART:20251102T060000
END:STANDARD
BEGIN:DAYLIGHT
TZOFFSETFROM:-0500
TZOFFSETTO:-0400
TZNAME:EDT
DTSTART:20260308T070000
END:DAYLIGHT
BEGIN:STANDARD
TZOFFSETFROM:-0400
TZOFFSETTO:-0500
TZNAME:EST
DTSTART:20261101T060000
END:STANDARD
END:VTIMEZONE
BEGIN:VEVENT
DTSTART;TZID=America/New_York:20251008T090000
DTEND;TZID=America/New_York:20251008T103000
DTSTAMP:20260419T214622
CREATED:20250922T182206Z
LAST-MODIFIED:20250922T182214Z
UID:10000050-1759914000-1759919400@unitedmidcoastcharities.org
SUMMARY:Unlocking Fundraising Success: UMC’s October LEARN@UMC Workshop with CCS Fundraising
DESCRIPTION:United Midcoast Charities (UMC) is pleased to announce the next session in its popular LEARN@UMC series: Unlocking Success: Choosing the Right Fundraising Counsel for Your Organization. The workshop will be led by Sarah Emerson\, Senior Vice President at CCS Fundraising\, and will take place on Wednesday\, October 8 from 9am – 10:30am at the UMC offices in Camden. This is one you won’t want to miss. \nIn today’s competitive nonprofit landscape\, choosing the right fundraising consultant can make all the difference in achieving development goals. During this interactive workshop\, Emerson will guide participants through the key factors to consider when evaluating and selecting fundraising counsel. Topics will include: \n\nThe role and benefits of hiring a consultant\nHow external partners differ from in-house development teams\nCriteria for assessing the best fit for your organization\nReal-world examples of successful partnerships\n\nThe session is designed to equip nonprofit leaders\, board members\, and development staff with practical tools to make informed decisions that support sustainable fundraising success. \nAbout the Presenter\nSarah Emerson has more than 20 years of experience helping nonprofits maximize their impact. Since joining CCS Fundraising in 2015\, she has led dozens of organizations through major campaigns\, development assessments\, and strategic planning processes. Her expertise spans areas such as campaign management\, donor trend analysis\, and board training. A Maine native\, Emerson is passionate about partnering with nonprofit leaders to design comprehensive plans that drive long-term growth. \nRegistration is now open. The workshop is free for current UMC grantee organizations and available to other area nonprofits for a $20 fee. Space is limited\, so early registration is encouraged. To RSVP\, call 207-236-2299 or email admin@unitedmidcoastcharities.org.
URL:https://unitedmidcoastcharities.org/event/unlocking-fundraising-success-umcs-october-learnumc-workshop-with-ccs-fundraising/
LOCATION:United Midcoast Charities Conference room\, 87 Elm St\, #208\, Camden\, ME\, 04843\, United States
CATEGORIES:LEARN @ UMC
ATTACH;FMTTYPE=image/jpeg:https://unitedmidcoastcharities.org/wp-content/uploads/2025/09/Sarah-Emerson-Image-1-Square-Crop-scaled.jpg
END:VEVENT
END:VCALENDAR