BEGIN:VCALENDAR
VERSION:2.0
PRODID:-//United Midcoast Charities - ECPv6.15.12.2//NONSGML v1.0//EN
CALSCALE:GREGORIAN
METHOD:PUBLISH
X-ORIGINAL-URL:https://unitedmidcoastcharities.org
X-WR-CALDESC:Events for United Midcoast Charities
REFRESH-INTERVAL;VALUE=DURATION:PT1H
X-Robots-Tag:noindex
X-PUBLISHED-TTL:PT1H
BEGIN:VTIMEZONE
TZID:America/New_York
BEGIN:DAYLIGHT
TZOFFSETFROM:-0500
TZOFFSETTO:-0400
TZNAME:EDT
DTSTART:20190310T070000
END:DAYLIGHT
BEGIN:STANDARD
TZOFFSETFROM:-0400
TZOFFSETTO:-0500
TZNAME:EST
DTSTART:20191103T060000
END:STANDARD
BEGIN:DAYLIGHT
TZOFFSETFROM:-0500
TZOFFSETTO:-0400
TZNAME:EDT
DTSTART:20200308T070000
END:DAYLIGHT
BEGIN:STANDARD
TZOFFSETFROM:-0400
TZOFFSETTO:-0500
TZNAME:EST
DTSTART:20201101T060000
END:STANDARD
BEGIN:DAYLIGHT
TZOFFSETFROM:-0500
TZOFFSETTO:-0400
TZNAME:EDT
DTSTART:20210314T070000
END:DAYLIGHT
BEGIN:STANDARD
TZOFFSETFROM:-0400
TZOFFSETTO:-0500
TZNAME:EST
DTSTART:20211107T060000
END:STANDARD
END:VTIMEZONE
BEGIN:VEVENT
DTSTART;TZID=America/New_York:20200228T150000
DTEND;TZID=America/New_York:20200228T163000
DTSTAMP:20260424T114529
CREATED:20200204T203118Z
LAST-MODIFIED:20200204T205327Z
UID:10000016-1582902000-1582907400@unitedmidcoastcharities.org
SUMMARY:Learn With UMC: Goals & Objectives for Grantseeking Success
DESCRIPTION:UMC program coordinator Kelly Carey will offer hands-on coaching on how to write a winning grant application with concrete goals and objectives at 3pm\, February 28th\, at the Picker Room of the Camden Public Library. \nAll around the nation\, funders are increasingly moving to data-informed\, outcome-focused grantmaking strategies. That means that it’s critical for nonprofits to clearly and concretely explain what they expect to do\, and why they expect their activities will make difference to a social problem. \nThis workshop is recommended for anyone with grant-writing responsibilities\, but especially for those who plan to apply for a UMC grant in 2020.  Pre-learning resources and post-workshop support are included in registration. \nThe workshop is free but we request that attendees register in advance to assist in planning. Refreshments will be provided. \nKelly Carey is program coordinator at United Midcoast Charities. She is the primary contact for questions about the 2020 grant cycle and may be reached at kelly@unitedmidcoastcharities.org. \nFill out my LGL form!
URL:https://unitedmidcoastcharities.org/event/learn-with-umc-goals-objectives-for-grantseeking-success/
LOCATION:Camden Public Library Picker Room\, 55 Main St\, Camden\, ME\, 04843\, United States
CATEGORIES:LEARN @ UMC,Nonprofit Learning Series,Public Event
ATTACH;FMTTYPE=image/jpeg:https://unitedmidcoastcharities.org/wp-content/uploads/2020/02/KCareyWorkshop.jpg
END:VEVENT
END:VCALENDAR