BEGIN:VCALENDAR
VERSION:2.0
PRODID:-//United Midcoast Charities - ECPv6.15.12.2//NONSGML v1.0//EN
CALSCALE:GREGORIAN
METHOD:PUBLISH
X-WR-CALNAME:United Midcoast Charities
X-ORIGINAL-URL:https://unitedmidcoastcharities.org
X-WR-CALDESC:Events for United Midcoast Charities
REFRESH-INTERVAL;VALUE=DURATION:PT1H
X-Robots-Tag:noindex
X-PUBLISHED-TTL:PT1H
BEGIN:VTIMEZONE
TZID:America/New_York
BEGIN:DAYLIGHT
TZOFFSETFROM:-0500
TZOFFSETTO:-0400
TZNAME:EDT
DTSTART:20180311T070000
END:DAYLIGHT
BEGIN:STANDARD
TZOFFSETFROM:-0400
TZOFFSETTO:-0500
TZNAME:EST
DTSTART:20181104T060000
END:STANDARD
BEGIN:DAYLIGHT
TZOFFSETFROM:-0500
TZOFFSETTO:-0400
TZNAME:EDT
DTSTART:20190310T070000
END:DAYLIGHT
BEGIN:STANDARD
TZOFFSETFROM:-0400
TZOFFSETTO:-0500
TZNAME:EST
DTSTART:20191103T060000
END:STANDARD
BEGIN:DAYLIGHT
TZOFFSETFROM:-0500
TZOFFSETTO:-0400
TZNAME:EDT
DTSTART:20200308T070000
END:DAYLIGHT
BEGIN:STANDARD
TZOFFSETFROM:-0400
TZOFFSETTO:-0500
TZNAME:EST
DTSTART:20201101T060000
END:STANDARD
END:VTIMEZONE
BEGIN:VEVENT
DTSTART;VALUE=DATE:20190807
DTEND;VALUE=DATE:20190903
DTSTAMP:20260424T233034
CREATED:20180815T160441Z
LAST-MODIFIED:20190807T205852Z
UID:10000005-1565136000-1567468799@unitedmidcoastcharities.org
SUMMARY:Nominations Deadline for Unsung Hero Award
DESCRIPTION:NONPROFITS\, tell us about that one amazing volunteer who is quietly going about getting the job done! \nNominations for the “Unsung Hero Award” are accepted under the following criteria: \n\nNominee(s) must be an individual who volunteers in Knox and/or Waldo County\, Maine.\nNominations must be made by a nonprofit. Employees and paid staff of the nonprofit may not be nominated for work at their organization.\nBoard and staff of United Midcoast Charities and staff of Courier Publications are ineligible for nomination.\n\nAwards are determined by an Award Selection Committee based on award criteria. Award will be presented on September 19 at UMC’s Community Celebration at the Samoset. \nTo nominate a volunteer for the Unsung Hero Award\, please follow this link to the Unsung Hero Award Nomination Form. \nALL NOMINATIONS MUST BE RECEIVED NO LATER THAN SEPTEMBER 2\, 2019. \nIf you have questions\, please email Megan Williams\, megan@unitedmidcoastcharities.org \nThe award recipient will be selected from nominations by a panel made up of UMC’s Nonprofit Advisory Council\, UMC’s Board Members and Courier Publications Editorial staff. Their decisions are based on reviews of each application and assessment of the following criteria: \nIMPACT – How significant is the impact of the nominee’s service on beneficiaries? Tell us about the volunteer’s impact on organizations\, their community and others. How has the volunteerism impacted this individual?  Reviewers look at whether the service is exemplary or unique. \nINSPIRATION – Tell us how your volunteer stands out from others doing the same or similar things. Do they serve as a strong role model for others\, and inspire others to serve? \nCOLLABORATION – Does this volunteer encourage community members or organizations to work together to solve problems/get things done? How is their service collaborative in nature?
URL:https://unitedmidcoastcharities.org/event/unsung/
LOCATION:ME
CATEGORIES:Public Event,Volunteer Event
ATTACH;FMTTYPE=image/png:https://unitedmidcoastcharities.org/wp-content/uploads/2018/08/400dpiLogoCropped.png
END:VEVENT
BEGIN:VEVENT
DTSTART;TZID=America/New_York:20190809T090000
DTEND;TZID=America/New_York:20190809T103000
DTSTAMP:20260424T233034
CREATED:20190517T174439Z
LAST-MODIFIED:20190919T151834Z
UID:10000012-1565341200-1565346600@unitedmidcoastcharities.org
SUMMARY:Learn With UMC: Grantseeking with Foundation Directory Online
DESCRIPTION:THIS WORKSHOP IS FULL – Please call 236-2299 for other options \nThe July offering in UMC’s free educational series\, Learn with UMC: Grantseeking with Foundation Directory Online\, will be offered at 9 a.m. on Aug. 9 at 87 Elm St\, Camden. Certified Expert Trainer Kelly Carey will offer an interactive\, hands-on workshop to introduce local nonprofits to the grant prospecting tools available through UMC’s partnership with Foundation Center Online. \nThere are over 140\,000 charitable foundations in the United States\, with a huge range of giving interests. Finding funders that are the right fit and making a strong approach can seem impossible\, especially to volunteer-driven organizations. The Foundation Directory Online grantseeker’s database offers incredible tools to make this process achievable. \nFoundation Directory Online offers up-to-date insight on grantmakers working in every part of the country\, in every field and interest. In-depth funder profiles and details on past giving can help nonprofits craft a strong approach to the foundations most likely to give to their cause. 100% of those who have attended an FDO tutorial at UMC say that they identified prospective new funders\, and 65% say they learned something new about a funder who is already donating to their program. Come learn how to use this database\, which United Midcoast Charities offers free of charge 5 days a week. \nThe workshop is free but enrollment is limited. Pre-register here or call 236-2299 with additional questions. Attendees will access the database with their own laptop or tablet\, so please bring a fully charged device adequate for about 90 minutes of online work. Coffee and morning snacks will be provided. \nAbout the presenter: \nKelly Carey is administrative coordinator at United Midcoast Charities as well the as primary coach of the Foundation Directory Online database at UMC. She loves the magic moment when a grant seeker realizes that there is LOTS of grant funding available for their work. \nTHIS WORKSHOP IS FULL – Please call 236-2299 for other options \n 
URL:https://unitedmidcoastcharities.org/event/fdoaugust/
LOCATION:United Midcoast Charities Conference room\, 87 Elm St\, #208\, Camden\, ME\, 04843\, United States
CATEGORIES:LEARN @ UMC,Nonprofit Learning Series
ATTACH;FMTTYPE=image/png:https://unitedmidcoastcharities.org/wp-content/uploads/2018/10/FdnCtrExpertBadge.png
END:VEVENT
END:VCALENDAR