BEGIN:VCALENDAR
VERSION:2.0
PRODID:-//United Midcoast Charities - ECPv6.15.12.2//NONSGML v1.0//EN
CALSCALE:GREGORIAN
METHOD:PUBLISH
X-WR-CALNAME:United Midcoast Charities
X-ORIGINAL-URL:https://unitedmidcoastcharities.org
X-WR-CALDESC:Events for United Midcoast Charities
REFRESH-INTERVAL;VALUE=DURATION:PT1H
X-Robots-Tag:noindex
X-PUBLISHED-TTL:PT1H
BEGIN:VTIMEZONE
TZID:UTC
BEGIN:STANDARD
TZOFFSETFROM:+0000
TZOFFSETTO:+0000
TZNAME:UTC
DTSTART:20190101T000000
END:STANDARD
END:VTIMEZONE
BEGIN:VEVENT
DTSTART;TZID=UTC:20200303T120000
DTEND;TZID=UTC:20200331T170000
DTSTAMP:20260424T111704
CREATED:20180125T013455Z
LAST-MODIFIED:20200212T182443Z
UID:10000001-1583236800-1585674000@unitedmidcoastcharities.org
SUMMARY:2020 Grant Applications Open
DESCRIPTION:The 2020 UMC grant cycle begins with online applications open on March 3. The online application must be submitted by 5 pm on Tuesday\, March 31\, 2020. \nFor More Info >> \nPlease call 207-236-2299 with any questions!
URL:https://unitedmidcoastcharities.org/event/grants-open/
LOCATION:ME
CATEGORIES:Grantmaking Event,Public Event
ATTACH;FMTTYPE=image/jpeg:https://unitedmidcoastcharities.org/wp-content/uploads/2020/02/FB-cover-8660650.jpg
END:VEVENT
BEGIN:VEVENT
DTSTART;TZID=UTC:20200331T170000
DTEND;TZID=UTC:20200331T170000
DTSTAMP:20260424T111704
CREATED:20180206T010113Z
LAST-MODIFIED:20200303T172344Z
UID:10000002-1585674000-1585674000@unitedmidcoastcharities.org
SUMMARY:2020 Grant Application Deadline
DESCRIPTION:Please have your application and all supporting material submitted prior to this date. The online application will close automatically at 5:00 p.m. EST.
URL:https://unitedmidcoastcharities.org/event/grant-deadline/
LOCATION:ME
CATEGORIES:Grantmaking Event
END:VEVENT
END:VCALENDAR